BEGIN:VCALENDAR
VERSION:2.0
PRODID:-//SPE-Amsterdam - ECPv6.1.3//NONSGML v1.0//EN
CALSCALE:GREGORIAN
METHOD:PUBLISH
X-ORIGINAL-URL:https://www.spe-amsterdam.nl
X-WR-CALDESC:Evenementen voor SPE-Amsterdam
REFRESH-INTERVAL;VALUE=DURATION:PT1H
X-Robots-Tag:noindex
X-PUBLISHED-TTL:PT1H
BEGIN:VTIMEZONE
TZID:Europe/Amsterdam
BEGIN:DAYLIGHT
TZOFFSETFROM:+0100
TZOFFSETTO:+0200
TZNAME:CEST
DTSTART:20210328T010000
END:DAYLIGHT
BEGIN:STANDARD
TZOFFSETFROM:+0200
TZOFFSETTO:+0100
TZNAME:CET
DTSTART:20211031T010000
END:STANDARD
END:VTIMEZONE
BEGIN:VEVENT
DTSTART;VALUE=DATE:20210308
DTEND;VALUE=DATE:20210313
DTSTAMP:20260422T141034
CREATED:20210302T085354Z
LAST-MODIFIED:20210302T085354Z
UID:17760-1615161600-1615593599@www.spe-amsterdam.nl
SUMMARY:Gemeente Amsterdam - Wandeling Art Zuid Beatrixpark
DESCRIPTION:Deze wandeling voert langs kunstwerken die besproken worden in een begeleidend filmpje. Een van de kunstwerken is Future Past Glory in het Beatrixpark. Dit werk is een eerbetoon aan Jacoba Mulder\, die het ontwerp voor het park heeft gemaakt. Schrijf u in\, dan ontvangt u per mail de routebeschrijving en een link naar een filmpje waarin de kunstwerken worden toegelicht. U kunt de wandeling dan op uw eigen moment doen. \n\n\n\n\n\n\n\n\n\n\n\nHebt u zin om een nieuw iemand te ontmoeten? U kunt één van de wandelingen ook doen met een nog onbekende medewandelaar. Kies welke wandeling u wilt maken en op welke dag. U ontvangt dan van ons de plaats waar u om 12.00 uur uw wandeldate ontmoet. Dit is natuurlijk op afstand. \nGeïnteresseerd? Meld je dan aan via de website.
URL:https://www.spe-amsterdam.nl/event/gemeente-amsterdam-wandeling-art-zuid-beatrixpark/
LOCATION:Beatrixpark\, Diepenbrockstraat 21\, Amsterdam\, 1077VX\, Nederland
ATTACH;FMTTYPE=image/png:https://www.spe-amsterdam.nl/wp-content/uploads/2020/08/Logo-Gemeente-Amsterdam-e1598261773962.png
ORGANIZER;CN="Gemeente%20Amsterdam":MAILTO:m.van.der.palen@amsterdam.nl
END:VEVENT
BEGIN:VEVENT
DTSTART;VALUE=DATE:20210308
DTEND;VALUE=DATE:20210313
DTSTAMP:20260422T141034
CREATED:20210302T085629Z
LAST-MODIFIED:20210302T085629Z
UID:17763-1615161600-1615593599@www.spe-amsterdam.nl
SUMMARY:Gemeente Amsterdam - Wandeling Jacoba Mulder Amsterdamse Bos
DESCRIPTION:Deze wandeling voert door het Amsterdamse Bos\, langs kenmerkende elementen in het ontwerp van Jacoba Mulder. Schrijf u in\, dan ontvangt u per mail de routebeschrijving en een link naar een podcast over Jacoba Mulder. U kunt de wandeling dan op uw eigen moment doen. \n\n\n\n\n\n\n\n\n\n\n\nHebt u zin om een nieuw iemand te ontmoeten? U kunt één van de wandelingen ook doen met een nog onbekende medewandelaar. Kies welke wandeling u wilt maken en op welke dag. U ontvangt dan van ons de plaats waar u om 12.00 uur uw wandeldate ontmoet. Dit is natuurlijk op afstand. \n\n\n\n\n\n\n\n\n\nGeïnteresseerd? Meld je dan aan via de website.
URL:https://www.spe-amsterdam.nl/event/gemeente-amsterdam-wandeling-jacoba-mulder-amsterdamse-bos/
LOCATION:Amsterdamse Bos
ATTACH;FMTTYPE=image/png:https://www.spe-amsterdam.nl/wp-content/uploads/2020/08/Logo-Gemeente-Amsterdam-e1598261773962.png
ORGANIZER;CN="Gemeente%20Amsterdam":MAILTO:m.van.der.palen@amsterdam.nl
END:VEVENT
BEGIN:VEVENT
DTSTART;VALUE=DATE:20210311
DTEND;VALUE=DATE:20210312
DTSTAMP:20260422T141034
CREATED:20210304T095411Z
LAST-MODIFIED:20210304T095411Z
UID:17802-1615420800-1615507199@www.spe-amsterdam.nl
SUMMARY:VrouwenAcademie West - Talkshow emancipatie
DESCRIPTION:De VrouwenAcademie West organiseert een talkshow met als thema ‘Wat betekent emancipatie voor jou?’. Wilt u hier online bij aanwezig zijn? Mail naar info@vrouwenacademiewest.nl voor meer informatie en om de link naar de live talkshow te ontvangen.
URL:https://www.spe-amsterdam.nl/event/vrouwenacademie-west-talkshow-emancipatie/
LOCATION:Online
END:VEVENT
BEGIN:VEVENT
DTSTART;TZID=Europe/Amsterdam:20210311T100000
DTEND;TZID=Europe/Amsterdam:20210311T113000
DTSTAMP:20260422T141034
CREATED:20210302T084909Z
LAST-MODIFIED:20210302T084909Z
UID:17758-1615456800-1615462200@www.spe-amsterdam.nl
SUMMARY:Gemeente Amsterdam - Just Like You door Dream Support
DESCRIPTION:Doe mee en deel uw verhalen over ‘opvoeding en diversiteit’. We gaan ontdekken en delen door middel van het verhalenspel Just Like You. Doe mee en voer magische gesprekken. Verhalen delen die inzicht geven\, die soms uw ogen openen\, voor verbinding met de ander zorgen\, u en de groep versterken\, u raken en herkenbaar kunnen zijn. \n\n\nGeïnteresseerd? Meld je dan aan via de website.
URL:https://www.spe-amsterdam.nl/event/gemeente-amsterdam-just-like-you-door-dream-support/
LOCATION:Online
ATTACH;FMTTYPE=image/png:https://www.spe-amsterdam.nl/wp-content/uploads/2020/08/Logo-Gemeente-Amsterdam-e1598261773962.png
ORGANIZER;CN="Gemeente%20Amsterdam":MAILTO:m.van.der.palen@amsterdam.nl
END:VEVENT
BEGIN:VEVENT
DTSTART;TZID=Europe/Amsterdam:20210311T150000
DTEND;TZID=Europe/Amsterdam:20210311T170000
DTSTAMP:20260422T141034
CREATED:20210218T090703Z
LAST-MODIFIED:20210218T090703Z
UID:17680-1615474800-1615482000@www.spe-amsterdam.nl
SUMMARY:Movisie - Aan de slag met professionele besluitvorming in je werk
DESCRIPTION:Hoe maak jij als sociaal werker besluiten in je werk? Doe je dit vaak intuïtief en individueel\, in overleg met je team of maak je wel eens gebruik van een besluitvormingsmodel? Movisie start een leer- en onderzoekstraject van vijf bijeenkomsten waarin we aan de slag gaan met besluitvorming. Samen met andere deelnemers en Movisie-experts experimenteer je met verschillende besluitvormingsmodellen. Zo leren we van elkaar en versterk je je eigen besluitvorming. \nHet doel van dit leer- en onderzoekstraject is om te leren hoe besluitvormingsmodellen het beste ingezet kunnen worden in de praktijk en welke effecten dit heeft. Meedoen draagt ook bij aan het versterken van jouw eigen besluitvorming! \nMeld je aan voor de 5 leerbijeenkomsten op de website.
URL:https://www.spe-amsterdam.nl/event/movisie-aan-de-slag-met-professionele-besluitvorming-in-je-werk/
LOCATION:Online
ATTACH;FMTTYPE=image/bmp:https://www.spe-amsterdam.nl/wp-content/uploads/2016/02/movisie.bmp
ORGANIZER;CN="Movisie":MAILTO:info@movisie.nl
END:VEVENT
END:VCALENDAR