BEGIN:VCALENDAR
VERSION:2.0
PRODID:-//SPE-Amsterdam - ECPv6.1.3//NONSGML v1.0//EN
CALSCALE:GREGORIAN
METHOD:PUBLISH
X-ORIGINAL-URL:https://www.spe-amsterdam.nl
X-WR-CALDESC:Evenementen voor SPE-Amsterdam
REFRESH-INTERVAL;VALUE=DURATION:PT1H
X-Robots-Tag:noindex
X-PUBLISHED-TTL:PT1H
BEGIN:VTIMEZONE
TZID:Europe/Amsterdam
BEGIN:DAYLIGHT
TZOFFSETFROM:+0100
TZOFFSETTO:+0200
TZNAME:CEST
DTSTART:20210328T010000
END:DAYLIGHT
BEGIN:STANDARD
TZOFFSETFROM:+0200
TZOFFSETTO:+0100
TZNAME:CET
DTSTART:20211031T010000
END:STANDARD
END:VTIMEZONE
BEGIN:VEVENT
DTSTART;VALUE=DATE:20210308
DTEND;VALUE=DATE:20210313
DTSTAMP:20260422T141013
CREATED:20210302T085354Z
LAST-MODIFIED:20210302T085354Z
UID:17760-1615161600-1615593599@www.spe-amsterdam.nl
SUMMARY:Gemeente Amsterdam - Wandeling Art Zuid Beatrixpark
DESCRIPTION:Deze wandeling voert langs kunstwerken die besproken worden in een begeleidend filmpje. Een van de kunstwerken is Future Past Glory in het Beatrixpark. Dit werk is een eerbetoon aan Jacoba Mulder\, die het ontwerp voor het park heeft gemaakt. Schrijf u in\, dan ontvangt u per mail de routebeschrijving en een link naar een filmpje waarin de kunstwerken worden toegelicht. U kunt de wandeling dan op uw eigen moment doen. \n\n\n\n\n\n\n\n\n\n\n\nHebt u zin om een nieuw iemand te ontmoeten? U kunt één van de wandelingen ook doen met een nog onbekende medewandelaar. Kies welke wandeling u wilt maken en op welke dag. U ontvangt dan van ons de plaats waar u om 12.00 uur uw wandeldate ontmoet. Dit is natuurlijk op afstand. \nGeïnteresseerd? Meld je dan aan via de website.
URL:https://www.spe-amsterdam.nl/event/gemeente-amsterdam-wandeling-art-zuid-beatrixpark/
LOCATION:Beatrixpark\, Diepenbrockstraat 21\, Amsterdam\, 1077VX\, Nederland
ATTACH;FMTTYPE=image/png:https://www.spe-amsterdam.nl/wp-content/uploads/2020/08/Logo-Gemeente-Amsterdam-e1598261773962.png
ORGANIZER;CN="Gemeente%20Amsterdam":MAILTO:m.van.der.palen@amsterdam.nl
END:VEVENT
BEGIN:VEVENT
DTSTART;VALUE=DATE:20210308
DTEND;VALUE=DATE:20210313
DTSTAMP:20260422T141013
CREATED:20210302T085629Z
LAST-MODIFIED:20210302T085629Z
UID:17763-1615161600-1615593599@www.spe-amsterdam.nl
SUMMARY:Gemeente Amsterdam - Wandeling Jacoba Mulder Amsterdamse Bos
DESCRIPTION:Deze wandeling voert door het Amsterdamse Bos\, langs kenmerkende elementen in het ontwerp van Jacoba Mulder. Schrijf u in\, dan ontvangt u per mail de routebeschrijving en een link naar een podcast over Jacoba Mulder. U kunt de wandeling dan op uw eigen moment doen. \n\n\n\n\n\n\n\n\n\n\n\nHebt u zin om een nieuw iemand te ontmoeten? U kunt één van de wandelingen ook doen met een nog onbekende medewandelaar. Kies welke wandeling u wilt maken en op welke dag. U ontvangt dan van ons de plaats waar u om 12.00 uur uw wandeldate ontmoet. Dit is natuurlijk op afstand. \n\n\n\n\n\n\n\n\n\nGeïnteresseerd? Meld je dan aan via de website.
URL:https://www.spe-amsterdam.nl/event/gemeente-amsterdam-wandeling-jacoba-mulder-amsterdamse-bos/
LOCATION:Amsterdamse Bos
ATTACH;FMTTYPE=image/png:https://www.spe-amsterdam.nl/wp-content/uploads/2020/08/Logo-Gemeente-Amsterdam-e1598261773962.png
ORGANIZER;CN="Gemeente%20Amsterdam":MAILTO:m.van.der.palen@amsterdam.nl
END:VEVENT
BEGIN:VEVENT
DTSTART;TZID=Europe/Amsterdam:20210310T100000
DTEND;TZID=Europe/Amsterdam:20210310T110000
DTSTAMP:20260422T141013
CREATED:20210302T084633Z
LAST-MODIFIED:20210302T084633Z
UID:17756-1615370400-1615374000@www.spe-amsterdam.nl
SUMMARY:Gemeente Amsterdam - Moderne dans door Dance Connects
DESCRIPTION:Bij moderne dans staat expressie centraal. Het lichaam wordt gebruikt om emoties\, muziek\, beelden\, thema’s of ideeën uit te drukken. Er is ruimte voor persoonlijke stijl en invulling\, en aandacht voor lichaamsbeheersing en danstechniek. Dance Connects combineert verschillende technieken met improvisatie. Vaste dansroutines worden afgewisseld met vrij bewegen. In deze workshop bent u lekker actief bezig en spreekt u uw creativiteit en fantasie aan. Iedereen kan meedoen\, ongeacht ervaring of conditie. \n\n\nGeïnteresseerd? Meld je dan aan via de website.
URL:https://www.spe-amsterdam.nl/event/gemeente-amsterdam-moderne-dans-door-dance-connects/
LOCATION:Online
ATTACH;FMTTYPE=image/png:https://www.spe-amsterdam.nl/wp-content/uploads/2020/08/Logo-Gemeente-Amsterdam-e1598261773962.png
ORGANIZER;CN="Gemeente%20Amsterdam":MAILTO:m.van.der.palen@amsterdam.nl
END:VEVENT
BEGIN:VEVENT
DTSTART;TZID=Europe/Amsterdam:20210310T100000
DTEND;TZID=Europe/Amsterdam:20210310T120000
DTSTAMP:20260422T141013
CREATED:20210302T084235Z
LAST-MODIFIED:20210302T084235Z
UID:17754-1615370400-1615377600@www.spe-amsterdam.nl
SUMMARY:Gemeente Amsterdam - Durven doen door Single Supermom
DESCRIPTION:Als vrouw houdt u veel ballen in de lucht en is er vaak weinig tijd voor uzelf. Te weinig tijd om te dromen\, en al helemaal geen tijd om ervoor te zorgen dat die dromen uitkomen. Iedere vrouw en iedere situatie is anders. Maar iedere vrouw wil een gelukkig leven. Daarover gaat Durven Doen. In deze workshop geven we u een inkijk in hoe u uw dromen en ambities kunt verwezenlijken. We gaan werken aan uw doelen en onderzoeken wat u nodig hebt om uw doelen te bereiken. \nGeïnteresseerd? Meld je dan aan via de website.
URL:https://www.spe-amsterdam.nl/event/gemeente-amsterdam-durven-doen-door-single-supermom/
LOCATION:Online
ATTACH;FMTTYPE=image/png:https://www.spe-amsterdam.nl/wp-content/uploads/2020/08/Logo-Gemeente-Amsterdam-e1598261773962.png
ORGANIZER;CN="Gemeente%20Amsterdam":MAILTO:m.van.der.palen@amsterdam.nl
END:VEVENT
BEGIN:VEVENT
DTSTART;TZID=Europe/Amsterdam:20210310T140000
DTEND;TZID=Europe/Amsterdam:20210310T150000
DTSTAMP:20260422T141013
CREATED:20210304T094116Z
LAST-MODIFIED:20210304T094116Z
UID:17797-1615384800-1615388400@www.spe-amsterdam.nl
SUMMARY:Stichting Raad is Daad - Theeuurtje
DESCRIPTION:Speciaal voor de senioren met een Turkse achtergrond is er een interactief thee moment. Ozlem Bayar van Stichting Raad is Daad gaat in gesprek met aanwezigen over thema’s zoals gezondheid\, geluk\, familie en eenzaamheid. Wilt u meedoen? Meld u aan bij de Facebookgroep ‘Vrouwendag Amsterdam West’.
URL:https://www.spe-amsterdam.nl/event/stichting-raad-is-daad-theeuurtje/
LOCATION:Online
END:VEVENT
END:VCALENDAR