BEGIN:VCALENDAR
VERSION:2.0
PRODID:-//SPE-Amsterdam - ECPv6.1.3//NONSGML v1.0//EN
CALSCALE:GREGORIAN
METHOD:PUBLISH
X-WR-CALNAME:SPE-Amsterdam
X-ORIGINAL-URL:https://www.spe-amsterdam.nl
X-WR-CALDESC:Evenementen voor SPE-Amsterdam
REFRESH-INTERVAL;VALUE=DURATION:PT1H
X-Robots-Tag:noindex
X-PUBLISHED-TTL:PT1H
BEGIN:VTIMEZONE
TZID:Europe/Amsterdam
BEGIN:DAYLIGHT
TZOFFSETFROM:+0100
TZOFFSETTO:+0200
TZNAME:CEST
DTSTART:20210328T010000
END:DAYLIGHT
BEGIN:STANDARD
TZOFFSETFROM:+0200
TZOFFSETTO:+0100
TZNAME:CET
DTSTART:20211031T010000
END:STANDARD
END:VTIMEZONE
BEGIN:VEVENT
DTSTART;VALUE=DATE:20210308
DTEND;VALUE=DATE:20210313
DTSTAMP:20260422T142430
CREATED:20210302T085354Z
LAST-MODIFIED:20210302T085354Z
UID:17760-1615161600-1615593599@www.spe-amsterdam.nl
SUMMARY:Gemeente Amsterdam - Wandeling Art Zuid Beatrixpark
DESCRIPTION:Deze wandeling voert langs kunstwerken die besproken worden in een begeleidend filmpje. Een van de kunstwerken is Future Past Glory in het Beatrixpark. Dit werk is een eerbetoon aan Jacoba Mulder\, die het ontwerp voor het park heeft gemaakt. Schrijf u in\, dan ontvangt u per mail de routebeschrijving en een link naar een filmpje waarin de kunstwerken worden toegelicht. U kunt de wandeling dan op uw eigen moment doen. \n\n\n\n\n\n\n\n\n\n\n\nHebt u zin om een nieuw iemand te ontmoeten? U kunt één van de wandelingen ook doen met een nog onbekende medewandelaar. Kies welke wandeling u wilt maken en op welke dag. U ontvangt dan van ons de plaats waar u om 12.00 uur uw wandeldate ontmoet. Dit is natuurlijk op afstand. \nGeïnteresseerd? Meld je dan aan via de website.
URL:https://www.spe-amsterdam.nl/event/gemeente-amsterdam-wandeling-art-zuid-beatrixpark/
LOCATION:Beatrixpark\, Diepenbrockstraat 21\, Amsterdam\, 1077VX\, Nederland
ATTACH;FMTTYPE=image/png:https://www.spe-amsterdam.nl/wp-content/uploads/2020/08/Logo-Gemeente-Amsterdam-e1598261773962.png
ORGANIZER;CN="Gemeente%20Amsterdam":MAILTO:m.van.der.palen@amsterdam.nl
END:VEVENT
BEGIN:VEVENT
DTSTART;VALUE=DATE:20210308
DTEND;VALUE=DATE:20210313
DTSTAMP:20260422T142430
CREATED:20210302T085629Z
LAST-MODIFIED:20210302T085629Z
UID:17763-1615161600-1615593599@www.spe-amsterdam.nl
SUMMARY:Gemeente Amsterdam - Wandeling Jacoba Mulder Amsterdamse Bos
DESCRIPTION:Deze wandeling voert door het Amsterdamse Bos\, langs kenmerkende elementen in het ontwerp van Jacoba Mulder. Schrijf u in\, dan ontvangt u per mail de routebeschrijving en een link naar een podcast over Jacoba Mulder. U kunt de wandeling dan op uw eigen moment doen. \n\n\n\n\n\n\n\n\n\n\n\nHebt u zin om een nieuw iemand te ontmoeten? U kunt één van de wandelingen ook doen met een nog onbekende medewandelaar. Kies welke wandeling u wilt maken en op welke dag. U ontvangt dan van ons de plaats waar u om 12.00 uur uw wandeldate ontmoet. Dit is natuurlijk op afstand. \n\n\n\n\n\n\n\n\n\nGeïnteresseerd? Meld je dan aan via de website.
URL:https://www.spe-amsterdam.nl/event/gemeente-amsterdam-wandeling-jacoba-mulder-amsterdamse-bos/
LOCATION:Amsterdamse Bos
ATTACH;FMTTYPE=image/png:https://www.spe-amsterdam.nl/wp-content/uploads/2020/08/Logo-Gemeente-Amsterdam-e1598261773962.png
ORGANIZER;CN="Gemeente%20Amsterdam":MAILTO:m.van.der.palen@amsterdam.nl
END:VEVENT
BEGIN:VEVENT
DTSTART;TZID=Europe/Amsterdam:20210309T100000
DTEND;TZID=Europe/Amsterdam:20210309T120000
DTSTAMP:20260422T142430
CREATED:20210302T083213Z
LAST-MODIFIED:20210302T083738Z
UID:17746-1615284000-1615291200@www.spe-amsterdam.nl
SUMMARY:Gemeente Amsterdam - Vrouwelijke kwaliteit door Mija Valentijn
DESCRIPTION:Vrouwelijke kwaliteiten worden in onze mannelijke maatschappij vaak ondergewaardeerd. Denk maar aan de betaling van beroepen in ‘zachte’ sectoren als zorg en onderwijs. Het is de kunst om niet het mannelijke te gaan nadoen om erbij te horen of succesvol te zijn\, zoals de ‘bitch in de boardroom’. Elk mens bezit mannelijke en vrouwelijke kwaliteiten. Wat zijn nu typisch mannelijke en typisch vrouwelijke kwaliteiten? Welke vrouwelijke kwaliteiten bezit u en hoe kunt u die meer inzetten? \nGeïnteresseerd? Meld je dan aan via de website.
URL:https://www.spe-amsterdam.nl/event/gemeente-amsterdam-vrouwelijke-kwaliteit-door-mija-valentijn/
LOCATION:Online
ATTACH;FMTTYPE=image/png:https://www.spe-amsterdam.nl/wp-content/uploads/2020/08/Logo-Gemeente-Amsterdam-e1598261773962.png
ORGANIZER;CN="Gemeente%20Amsterdam":MAILTO:m.van.der.palen@amsterdam.nl
END:VEVENT
BEGIN:VEVENT
DTSTART;TZID=Europe/Amsterdam:20210309T140000
DTEND;TZID=Europe/Amsterdam:20210309T160000
DTSTAMP:20260422T142430
CREATED:20210301T105631Z
LAST-MODIFIED:20210301T105647Z
UID:17735-1615298400-1615305600@www.spe-amsterdam.nl
SUMMARY:Filmvertoning en dialoogbijeenkomst vrouwenrechten - Stichting URGENT
DESCRIPTION:Wanneer: dinsdag 9 maart 2021\nTijd: 14:00 – 16:00\nLocatie: Online \nIn de week van internationale vrouwendag\, gaan we het hebben over vrouwenrechten\, vrouw-zijn en verandering! \nAan de hand van de film ‘Rebellious Silence’ over de moed en de kracht van (Iraanse) vrouwen\, gaan we samen met filmmaakster Nuria Zantman en filosofe Sabine Wassenberg in gesprek over verschillende thema’s waaronder vrouwenrechten\, vrouw-zijn\, verandering en mannen. Daarnaast gaan we opzoek naar antwoorden op vragen als: ”Hebben vrouwen in Nederland ook te maken met onderdrukking en zo ja hoe?” En ”Kan echte verandering alleen door vrouwen te weeg worden gebracht of is er meer voor nodig?” \nHet zal een inspirerende middag worden waarin dialoog met een creatieve\, vrolijke ondertoon centraal staat. \nNETWERK ALERT! Stichting URGENT komt deze bijeenkomst graag (kostenloos) voor de vrouwen uit jouw achterban verzorgen. Zorg dus dat je erbij bent! \nProgrammma \n14:00 – 14:10    Film & maakster introduceren\, filmvertoning\n14:10 – 14:20    Voorstelrondje en korte nabespreking\n14:20 – 14:40    Filosofisch gesprek\n14:40 – 15:00    Stellingen\n15:00 – 15:30    Creatieve afsluiting \nBen jij erbij op dinsdag 9 maart!? Meld je dan aan door te mailen naar info@spe-amsterdam.nl \n  \nRebellious Silence is een korte documentaire over Sara\, een vrouwenrechtenactiviste\, die al meer dan tien jaar strijdt voor vrouwenrechten in Iran. In deze korte documentaire vertelt Sara over haar verhaal en de wereld achter activisme. De documentaire neemt ons mee op een visuele reis naar de ervaringen en emoties die gepaard gaan met activist zijn in Iran. \nNuria Zantman is documentairemaakster en activiste. Ze is geïnteresseerd in daar waar het persoonlijke beïnvloedt wordt door het politieke. Ze is op zoek naar de verhalen achter onderwerpen en focust zich daarin op het persoonlijke. Hierin laat ze zich inspireren door de kracht en kwetsbaarheid van haar personages. Na haar opleiding tot actrice startte ze met een groep vrienden een filmcollectief waarmee ze verschillende films maakten. Daarnaast begeleidt ze internationale Human Rights Defenders die tijdelijk in Nederland verblijven. \nSabine Wassenberg is filosoof\, trainer\, docent en schrijver. Ze is gespecialiseerd in het begeleiden van filosofische gesprekken\, met name op scholen\, en schreef op dit gebied meerdere boeken: voor kinderen drie Filosofische Doeboeken en het prentenboek Philo & Sophia; voor docenten o.a. Ik zag twee beren filosoferen\, en voor het grote publiek Kinderlogica en Mijn ego en ik. Ze vindt het belangrijk om filosofische vraagstukken in begrijpelijke taal over te brengen\, mensen te inspireren om dieper door te denken\, en de verwondering op te zoeken.
URL:https://www.spe-amsterdam.nl/event/filmvertoning-en-dialoogbijeenkomst-vrouwenrechten-stichting-urgent/
LOCATION:Online
CATEGORIES:Bijeenkomsten vrouwenorganisaties,Netwerkbijeenkomsten SPE
ATTACH;FMTTYPE=image/jpeg:https://www.spe-amsterdam.nl/wp-content/uploads/2021/03/rebel.jpg
END:VEVENT
BEGIN:VEVENT
DTSTART;TZID=Europe/Amsterdam:20210309T183000
DTEND;TZID=Europe/Amsterdam:20210309T193000
DTSTAMP:20260422T142430
CREATED:20210216T112151Z
LAST-MODIFIED:20210216T112151Z
UID:17668-1615314600-1615318200@www.spe-amsterdam.nl
SUMMARY:Pakhuis de Zwijger – FemCity x NL Kiest #6: Verkiezingsdebat gelijkwaardig Nederland
DESCRIPTION:Er waren nog nooit zoveel vrouwelijke lijsttrekkers en ook de kieslijsten hebben een flinke sprong gemaakt in diversiteit. Toch zijn partijprogramma’s lang niet allemaal even ver in het agenderen van gendergelijkheid en valt er nog veel te behalen in wet- en regelgeving. Bij welke partijen moet je zijn als je een keuze voor een gelijkwaardig Nederland wilt maken? Wordt 2021 het jaar van de eerste vrouwelijke minister-president van Nederland? Is het haalbaar om de Tweede Kamer (eindelijk) een afspiegeling te laten zijn van de Nederlandse samenleving\, met 50% van de zetels bezet door vrouwen? Kortom\, er staat veel op het spel 17 maart. De vier weken voor de verkiezingen helpen wij je zo goed mogelijk voorbereid het stemhokje in te sturen. \nDeze week: een afsluitend verkiezingsdebat rondom een aantal onderwerpen geselecteerd uit de voorgaande avonden. Vrouwelijke kandidaten van verschillende partijen komen hun standpunten verdedigen. \nDe uitzending is gratis live te volgen via de website van Pakhuis de Zwijger. Reserveer je plekje hier.
URL:https://www.spe-amsterdam.nl/event/pakhuis-de-zwijger-femcity-x-nl-kiest-6-verkiezingsdebat-gelijkwaardig-nederland/
LOCATION:Online
ATTACH;FMTTYPE=image/jpeg:https://www.spe-amsterdam.nl/wp-content/uploads/2021/02/zwijger-z.jpg
END:VEVENT
BEGIN:VEVENT
DTSTART;TZID=Europe/Amsterdam:20210309T190000
DTEND;TZID=Europe/Amsterdam:20210309T210000
DTSTAMP:20260422T142430
CREATED:20210302T084003Z
LAST-MODIFIED:20210302T084003Z
UID:17752-1615316400-1615323600@www.spe-amsterdam.nl
SUMMARY:Gemeente Amsterdam - Grenzen aangeven door Iris Posthouwer
DESCRIPTION:Uw vriendin wil met u meerijden naar het bos\, maar u wilt in coronatijd niet samen in een auto zitten. Uw collega begint zijn zinnen vaak met ‘lieve schat’\, u wilt dat niet. Uw leidinggevende komt steeds te laat in de online meeting ‘want het eerste kwartier is toch small talk’. Hoe zegt u duidelijk wat u wilt? En hoe doet u dat op zo’n manier dat de ander uw grens respecteert en niet denkt: ‘nou zeg\, wat een bitch’. Dat leert u in deze workshop. \n\n\nGeïnteresseerd? Meld je dan aan via de website.
URL:https://www.spe-amsterdam.nl/event/gemeente-amsterdam-grenzen-aangeven-door-iris-posthouwer/
LOCATION:Online
ATTACH;FMTTYPE=image/png:https://www.spe-amsterdam.nl/wp-content/uploads/2020/08/Logo-Gemeente-Amsterdam-e1598261773962.png
ORGANIZER;CN="Gemeente%20Amsterdam":MAILTO:m.van.der.palen@amsterdam.nl
END:VEVENT
BEGIN:VEVENT
DTSTART;TZID=Europe/Amsterdam:20210309T200000
DTEND;TZID=Europe/Amsterdam:20210309T210000
DTSTAMP:20260422T142430
CREATED:20210304T093622Z
LAST-MODIFIED:20210304T093622Z
UID:17795-1615320000-1615323600@www.spe-amsterdam.nl
SUMMARY:ProductieLab - Mindful moment
DESCRIPTION:Even alle aandacht voor jezelf met Samira Boubkari\, GZ Psycholoog en systeemtherapeut.  Aanmelden voor de workshop kan via info@productielab.nl. Na aanmelding ontvangt u via de mail een link naar de Zoom meeting.
URL:https://www.spe-amsterdam.nl/event/productielab-mindful-moment/
LOCATION:Online
ATTACH;FMTTYPE=image/png:https://www.spe-amsterdam.nl/wp-content/uploads/2020/09/productielab.png
END:VEVENT
END:VCALENDAR