BEGIN:VCALENDAR
VERSION:2.0
PRODID:-//SPE-Amsterdam - ECPv6.1.3//NONSGML v1.0//EN
CALSCALE:GREGORIAN
METHOD:PUBLISH
X-WR-CALNAME:SPE-Amsterdam
X-ORIGINAL-URL:https://www.spe-amsterdam.nl
X-WR-CALDESC:Evenementen voor SPE-Amsterdam
REFRESH-INTERVAL;VALUE=DURATION:PT1H
X-Robots-Tag:noindex
X-PUBLISHED-TTL:PT1H
BEGIN:VTIMEZONE
TZID:Europe/Amsterdam
BEGIN:DAYLIGHT
TZOFFSETFROM:+0100
TZOFFSETTO:+0200
TZNAME:CEST
DTSTART:20210328T010000
END:DAYLIGHT
BEGIN:STANDARD
TZOFFSETFROM:+0200
TZOFFSETTO:+0100
TZNAME:CET
DTSTART:20211031T010000
END:STANDARD
END:VTIMEZONE
BEGIN:VEVENT
DTSTART;TZID=Europe/Amsterdam:20210305T080000
DTEND;TZID=Europe/Amsterdam:20210307T170000
DTSTAMP:20260422T140931
CREATED:20210120T090915Z
LAST-MODIFIED:20210120T093318Z
UID:17544-1614931200-1615136400@www.spe-amsterdam.nl
SUMMARY:Internationaal Filmfestival Assen - Vrouw & Film
DESCRIPTION:Van 5 t/m 7 maart vindt het Internationaal Filmfestival Assen | Vrouw & Film (IFA) plaats. Het online programma bestaat uit nationale en internationale filmhits van hoog niveau\, vol arthouseparels en voorpremières; films waarin vrouwen voor en achter de camera centraal staan. Daarnaast vind je op het platform ook verdiepende content\, korte films\, inleidingen en uitgebreide achtergrondinfo en\, ook zoals elk jaar\, samenwerkingen met verschillende (vertrouwde) festivalpartners. Movies that Matter\, Roze Filmdagen\, het Noordelijk Filmfestival\, Drents Museum\, Drents Archief en dit jaar voor het eerst met DocuDonna\, een internationaal documentairefestival uit Italië waar vrouwelijke filmmakers centraal staan. \nVoor meer informatie en het volledige programma: https://filmfestivalassen.nl/
URL:https://www.spe-amsterdam.nl/event/internationaal-filmfestival-assen-vrouw-film/
END:VEVENT
BEGIN:VEVENT
DTSTART;TZID=Europe/Amsterdam:20210307T110000
DTEND;TZID=Europe/Amsterdam:20210307T110000
DTSTAMP:20260422T140931
CREATED:20210302T100629Z
LAST-MODIFIED:20210302T100629Z
UID:17779-1615114800-1615114800@www.spe-amsterdam.nl
SUMMARY:Nationaal Archief - Internationale Vrouwendag
DESCRIPTION:Op 7 maart vieren we alvast Internationale Vrouwendag op het YouTube kanaal van het Nationaal Archief. Onder leiding van moderator Clarice Gargard vertellen Madeleijn van den Nieuwenhuizen en Devika Partiman over de strijd en rol van vrouwen ter verkrijging van het kiesrecht in Nederland en de (voormalige) overzeese gebieden. Welke vrouwen hebben zicht actief ingezet voor de overzeese kiesrechtstrijd? Waarom werd er onderscheid gemaakt tussen de verschillende delen van het koninkrijk? En hoe verliep de strijd om algemeen kiesrecht in de voormalige koloniën? \nVolg de livestream via het YouTube kanaal van het Nationaal Archief.
URL:https://www.spe-amsterdam.nl/event/nationaal-archief-internationale-vrouwendag/
LOCATION:Online
ATTACH;FMTTYPE=image/png:https://www.spe-amsterdam.nl/wp-content/uploads/2021/03/download-1.png
END:VEVENT
BEGIN:VEVENT
DTSTART;TZID=Europe/Amsterdam:20210307T140000
DTEND;TZID=Europe/Amsterdam:20210307T180000
DTSTAMP:20260422T140931
CREATED:20210216T113212Z
LAST-MODIFIED:20210216T113212Z
UID:17670-1615125600-1615140000@www.spe-amsterdam.nl
SUMMARY:Women's March 2021
DESCRIPTION:Op 7 maart organiseert Women’s March Nederland haar vijfde demonstratie in het Nelson Mandelapark te Amsterdam. Dit jaar niet in de vorm van een stoet\, maar statisch (met anderhalve meter tussen iedere deelnemer). \nWij demonstreren om de retoriek van verdeeldheid en haat en de opkomst van xenofobie in dit land en over de hele wereld te verwerpen. Racisme en seksisme dreigen de zwaar bevochten vrijheden terug te draaien en de vooruitgang een halt toe te roepen. \nWij demonstreren samen omdat onze toekomst er vanaf hangt. Tenzij onze toekomst wordt gevormd door de stemmen van alle vrouwen – inclusief vrouwen van kleur\, moslimvrouwen\, vrouwen met een beperking en queer vrouwen – zal de wereld er armer door zijn. \nWij demonstreren om onze democratie terug te eisen en de belangen van alle vrouwen in de politieke ruimte te brengen. \nWe hopen je te zien op 7 maart om 14.00 uur. Er is een mogelijkheid om thuis via livestream mee te kijken als je niet in de gelegenheid bent om aan te sluiten.
URL:https://www.spe-amsterdam.nl/event/womens-march-2021/
LOCATION:Nelson Mandelapark\, Reigersbospad\, Amsterdam\, Nederland
ATTACH;FMTTYPE=image/jpeg:https://www.spe-amsterdam.nl/wp-content/uploads/2021/02/EtIVCWnWMAIg4K9.jpg
ORGANIZER;CN="Women%27s%20March%20Nederland":MAILTO:info@womensmarchnederland.nl
END:VEVENT
END:VCALENDAR