BEGIN:VCALENDAR
VERSION:2.0
PRODID:-//SPE-Amsterdam - ECPv6.1.3//NONSGML v1.0//EN
CALSCALE:GREGORIAN
METHOD:PUBLISH
X-WR-CALNAME:SPE-Amsterdam
X-ORIGINAL-URL:https://www.spe-amsterdam.nl
X-WR-CALDESC:Evenementen voor SPE-Amsterdam
REFRESH-INTERVAL;VALUE=DURATION:PT1H
X-Robots-Tag:noindex
X-PUBLISHED-TTL:PT1H
BEGIN:VTIMEZONE
TZID:Europe/Amsterdam
BEGIN:DAYLIGHT
TZOFFSETFROM:+0100
TZOFFSETTO:+0200
TZNAME:CEST
DTSTART:20210328T010000
END:DAYLIGHT
BEGIN:STANDARD
TZOFFSETFROM:+0200
TZOFFSETTO:+0100
TZNAME:CET
DTSTART:20211031T010000
END:STANDARD
END:VTIMEZONE
BEGIN:VEVENT
DTSTART;TZID=Europe/Amsterdam:20210304T200000
DTEND;TZID=Europe/Amsterdam:20210304T220000
DTSTAMP:20260422T142431
CREATED:20210304T082558Z
LAST-MODIFIED:20210304T082558Z
UID:17784-1614888000-1614895200@www.spe-amsterdam.nl
SUMMARY:Amnesty International - Yes or No: Is sex that easy? Let's talk about consent
DESCRIPTION:Wanneer kaarten we consent aan? Is dat wel zo vanzelfsprekend en wat vormt voor ons de norm? In de vierde editie van Amnesty meets Buddhism ‘Yes or No: Is sex that easy? Let’s talk about consent’ gaan we in op deze en andere vragen. Vorig jaar gingen we voor het eerst in gesprek over seks en consent. Consent betekent wederzijdse toestemming. Dit is altijd essentieel\, net als het gesprek daarover!\n\nIn deze interactieve webinar zullen we in gesprek gaan met onder andere Jens van Tricht\, oprichter van Emancipator NL en Hanneke de Graaf\, programmamanager Kennisontwikkeling en onderzoeker bij Rutgers Kenniscentrum Seksualiteit. Vervolgens zal de oprichter van Consent Matters Maastricht\, Janna Willems\, een workshop geven over consent. Zo wordt consent een stuk makkelijker!\n\nAmnesty International Nederland en SGI Nederland hebben een gemeenschappelijke visie: zij delen het respect voor het leven en het nastreven van een menswaardig bestaan voor iedereen. Amnesty doet dit vanuit de Universele Verklaring van de Rechten van de Mens\, en SGI Nederland vanuit de boeddhistische visie op de fundamentele waardigheid van al het leven. Beide organisaties zetten zich in voor het creëren van geluk en welzijn van alle mensen in de wereld.\nDit evenement maakt onderdeel uit van de Amnesty campagne #LetsTalkAboutYES\, is gratis toegankelijk voor iedereen en ook in het Engels te volgen. Houd er rekening mee dat dit een safe space is. Respecteer elkaars (en je eigen) grenzen!\n\nMocht je vragen hebben dan kun je deze stellen via amnestymeetsbuddhism@gmail.com\nGeïnteresseerd? Meld je aan via de website.
URL:https://www.spe-amsterdam.nl/event/amnesty-international-yes-or-no-is-sex-that-easy-lets-talk-about-consent/
LOCATION:Online
ATTACH;FMTTYPE=image/png:https://www.spe-amsterdam.nl/wp-content/uploads/2021/03/download-2.png
END:VEVENT
END:VCALENDAR