BEGIN:VCALENDAR
VERSION:2.0
PRODID:-//SPE-Amsterdam - ECPv6.1.3//NONSGML v1.0//EN
CALSCALE:GREGORIAN
METHOD:PUBLISH
X-WR-CALNAME:SPE-Amsterdam
X-ORIGINAL-URL:https://www.spe-amsterdam.nl
X-WR-CALDESC:Evenementen voor SPE-Amsterdam
REFRESH-INTERVAL;VALUE=DURATION:PT1H
X-Robots-Tag:noindex
X-PUBLISHED-TTL:PT1H
BEGIN:VTIMEZONE
TZID:Europe/Amsterdam
BEGIN:DAYLIGHT
TZOFFSETFROM:+0100
TZOFFSETTO:+0200
TZNAME:CEST
DTSTART:20210328T010000
END:DAYLIGHT
BEGIN:STANDARD
TZOFFSETFROM:+0200
TZOFFSETTO:+0100
TZNAME:CET
DTSTART:20211031T010000
END:STANDARD
END:VTIMEZONE
BEGIN:VEVENT
DTSTART;TZID=Europe/Amsterdam:20210302T093000
DTEND;TZID=Europe/Amsterdam:20210302T113000
DTSTAMP:20260422T142430
CREATED:20210218T104359Z
LAST-MODIFIED:20210218T104359Z
UID:17695-1614677400-1614684600@www.spe-amsterdam.nl
SUMMARY:Venzo - Opstapje naar vrijwilligerswerk
DESCRIPTION:De cursus \n\n\n\n\nNa een persoonlijke intake en op basis van wederzijds vertrouwen start je met het traject ‘Opstapje naar vrijwilligerswerk’. Tijdens de intake achterhalen wij wat jouw wensen\, verwachtingen en mogelijkheden zijn. Vervolgens ga je aan de slag in twee verschillende fasen. Fase 1 – in vier bijeenkomsten van twee uur ga je met de andere deelnemers met verschillende vragen aan de slag. We starten deze fase met een oriëntatie op vrijwilligerswerk. Wat houdt het in\, wat betekent het\, wat doet een vrijwilliger wel/niet en wat levert het op? In de bijeenkomsten daarna ga je meer kijken naar jezelf. We kijken naar vragen zoals: wie ben ik\, wat wil ik\, wat kan ik\, welke stappen ga ik zetten en waar kan ik die stappen zetten? Ervaringsdeskundigen presenteren over hun ervaring met vrijwilligerswerk en de voordelen die ze (hebben) ervaren. Fase 2 – na deze bijeenkomsten ga je vrijwilligerswerk doen. De duur bouwen we stap voor stap op. Daarnaast woon je een aantal bijeenkomsten bij die jou ondersteunen in het vrijwilligerswerk. De bijeenkomsten zijn een perfecte gelegenheid om ervaringen tijdens het vrijwilligerswerk te bespreken en evalueren. \n\n\nVoor wie \n\nDit traject is bedoeld voor mensen die graag ‘mee willen doen’ aan de samenleving\, maar niet goed weten hóe en dit via vrijwilligerswerk wil ontdekken.\n\n\n\nResultaten \n\nWe vragen jou en de andere deelnemers om een Competentie Ontwikkel Plan (COP) te formuleren. Deze vullen we gezamenlijk in bij de eerste bijeenkomst van fase één. Aan het einde van de eerste fase bespreken we de COP en bekijken we of de doelstellingen zijn gehaald. Deze COP houden we ook aan bij fase twee. Je vult hem aan waar nodig en kijkt aan het eind van de tweede fase welke impact het traject heeft gehad op jou. Natuurlijk met behulp van de trainers en ondersteunende vrijwilligers. \n\n\nWerkwijze \n\n\nInteractieve groepsbijeenkomsten\nZelf exploratie en oriëntatie\nOefenen in de praktijk\n\n\n\nDocent \n\nPatricia Huisden & Rhimou el Ahmadi \n\nMeedoen? Meld je aan via deze link.
URL:https://www.spe-amsterdam.nl/event/venzo-opstapje-naar-vrijwilligerswerk/
LOCATION:NoLIMIT\, Geldershoofd 80\, Amsterdam\, 1103BG\, Nederland
ATTACH;FMTTYPE=image/jpeg:https://www.spe-amsterdam.nl/wp-content/uploads/2016/03/Venzo.jpg
ORGANIZER;CN="Venzo":MAILTO:info@venzo.co.nl
END:VEVENT
BEGIN:VEVENT
DTSTART;TZID=Europe/Amsterdam:20210302T100000
DTEND;TZID=Europe/Amsterdam:20210302T120000
DTSTAMP:20260422T142430
CREATED:20210218T091938Z
LAST-MODIFIED:20210218T091938Z
UID:17687-1614679200-1614686400@www.spe-amsterdam.nl
SUMMARY:Online bijeenkomst: kennismaken in de buurt
DESCRIPTION:Diversiteit naar herkomst blijft in Nederland de komende jaren groeien. Soms maakt deze diversiteit het samenleven ingewikkelder. Breng jij mensen met verschillende (culturele) achtergronden en levensovertuigingen in contact met elkaar met jouw initiatief? Laten we dan van elkaar leren op dinsdag 2 maart 2021. \nTijdens deze bijeenkomst delen we kennis met elkaar over de voorwaarden van contact en hoe contact kan bijdragen aan een gelijkwaardige en respectvolle samenleving. We staan stil bij ervaringen van initiatiefnemers\, wetenschappelijke kennis over sociaal contact en hoe je deze kennis kunt gebruiken voor jouw initiatief. Ook vragen we je mee te denken met een tool die wij aan het ontwikkelen zijn voor (nieuwe) initiatiefnemers\, De Wij(k)verbinder. Met jouw kennis kunnen we de tool beter maken. \nProgramma \n\n10.00 uur: Welkom door Joline Verloove\, Movisie\n10.15 uur: Introductie door Florentine Zarks\, ministerie van Sociale Zaken en Werkgelegenheid.\n10.20 uur: In gesprek met een initiatiefnemer: hoe draagt dit initiatief bij aan een gelijkwaardige samenleving? Wat maakt het tot een succes? En hoe organiseer je ontmoeting in coronatijd?\n10.30 uur: Hoe organiseer je sociaal contact op een effectieve manier? Presentatie door René Broekroelofs\, onderzoeker Movisie\n10.45 uur: Presentatie online tool De Wij(k)verbinder\n10.50 uur: Pauze\n11.00 uur: Break-out rooms: initiatieven wisselen praktijkkennis en tips met elkaar uit\n11.40 uur: Presentatie Buurtwijs.nl door Joke Meindersma\, redacteur Buurtwijs en adviseur vrijwillige inzet Movisie\n12.00 uur: Einde\n\nGeinteresseerd? Meld je aan via de website.
URL:https://www.spe-amsterdam.nl/event/online-bijeenkomst-kennismaken-in-de-buurt/
LOCATION:Online
ATTACH;FMTTYPE=image/png:https://www.spe-amsterdam.nl/wp-content/uploads/2016/07/kis.png
ORGANIZER;CN="Kennisplatform%20Integratie%20%26%20Samenleving":MAILTO:info@kis.nl 
END:VEVENT
BEGIN:VEVENT
DTSTART;TZID=Europe/Amsterdam:20210302T183000
DTEND;TZID=Europe/Amsterdam:20210302T193000
DTSTAMP:20260422T142430
CREATED:20210212T143730Z
LAST-MODIFIED:20210216T111723Z
UID:17649-1614709800-1614713400@www.spe-amsterdam.nl
SUMMARY:Pakhuis de Zwijger - FemCity x NL Kiest #4: Emancipatie is politiek
DESCRIPTION:Er waren nog nooit zoveel vrouwelijke lijsttrekkers en ook de kieslijsten hebben een flinke sprong gemaakt in diversiteit. Toch zijn partijprogramma’s lang niet allemaal even ver in het agenderen van gendergelijkheid en valt er nog veel te behalen in wet- en regelgeving. Bij welke partijen moet je zijn als je een keuze voor een gelijkwaardig Nederland wilt maken? Wordt 2021 het jaar van de eerste vrouwelijke minister-president van Nederland? Is het haalbaar om de Tweede Kamer (eindelijk) een afspiegeling te laten zijn van de Nederlandse samenleving\, met 50% van de zetels bezet door vrouwen? Kortom\, er staat veel op het spel 17 maart. De vier weken voor de verkiezingen helpen wij je zo goed mogelijk voorbereid het stemhokje in te sturen. \nDeze week: emancipatie is politiek. Hoe komt het dat er een overvloed aan hoogopgeleide vrouwen is in Nederland\, maar dat er nog steeds meer mannelijke CEO’s zijn die Peter heten\, dan vrouwelijke CEO’s? Hoe zorgen we voor échte representatie in de politiek\, het bedrijfsleven en in andere bestuurlijke functies? En wie vertegenwoordigt kwetsbare groepen wiens stem nog lang niet altijd wordt gehoord? \n\nDe uitzending is gratis live te volgen via de website van Pakhuis de Zwijger. Reserveer je plekje hier.
URL:https://www.spe-amsterdam.nl/event/pakhuis-de-zwijger-femcity-x-nl-kiest-4-emancipatie-is-politiek/
LOCATION:Online
ATTACH;FMTTYPE=image/jpeg:https://www.spe-amsterdam.nl/wp-content/uploads/2021/02/zwijger-z.jpg
END:VEVENT
END:VCALENDAR