BEGIN:VCALENDAR
VERSION:2.0
PRODID:-//SPE-Amsterdam - ECPv6.1.3//NONSGML v1.0//EN
CALSCALE:GREGORIAN
METHOD:PUBLISH
X-WR-CALNAME:SPE-Amsterdam
X-ORIGINAL-URL:https://www.spe-amsterdam.nl
X-WR-CALDESC:Evenementen voor SPE-Amsterdam
REFRESH-INTERVAL;VALUE=DURATION:PT1H
X-Robots-Tag:noindex
X-PUBLISHED-TTL:PT1H
BEGIN:VTIMEZONE
TZID:Europe/Amsterdam
BEGIN:DAYLIGHT
TZOFFSETFROM:+0100
TZOFFSETTO:+0200
TZNAME:CEST
DTSTART:20210328T010000
END:DAYLIGHT
BEGIN:STANDARD
TZOFFSETFROM:+0200
TZOFFSETTO:+0100
TZNAME:CET
DTSTART:20211031T010000
END:STANDARD
END:VTIMEZONE
BEGIN:VEVENT
DTSTART;TZID=Europe/Amsterdam:20210227T100000
DTEND;TZID=Europe/Amsterdam:20210227T160000
DTSTAMP:20260422T124729
CREATED:20210212T082849Z
LAST-MODIFIED:20210212T082849Z
UID:17638-1614420000-1614441600@www.spe-amsterdam.nl
SUMMARY:Burgeracademie - Cursus 'Fondsenwerving\, van plan naar aanvraag'. Dag 1
DESCRIPTION:Op zaterdag 27 februari 2021 start de 2-delige cursus ‘Fondsenwerving – van plan naar aanvraag’ van 10:00 tot 16:00. Deze cursus wordt online aangeboden. \nHeb je eind 2020 de cursus ‘Fondsenwerving – van idee naar plan’ gevolgd? Heb je een projectplan liggen met het idee om daar een fonds voor aan te vragen? Dan is dit een goed vervolg en/of moment om jouw plan nog meer te optimaliseren en jouw aanvraag zo goed mogelijk af te stemmen op de fondsen die je aan wil schrijven. \nDag 1: Jouw idee\nVoor sociale en creatieve instellingen zijn er enorm veel mogelijkheden voor het vinden van financiering. Het krijgen van voldoende financiering is echter niet zo makkelijk. Hoe zorg je ervoor dat jouw idee potentiële financiers overtuigt? Hoe zorg je ervoor dat je het idee straks ook netjes en binnen budget realiseert? Is een verdienmodel mogelijk? Wat moet er eigenlijk allemaal in een aanvraag staan? En welke mogelijkheden zijn er precies? \nIn dit gedeelte is er veel ruimte voor interactie\, opdrachten en vragen. En iedereen krijgt huiswerk: maak\, op basis van het in deel 1 geleerde\, een nieuw of verbeterd businessplan van jouw project. \nKijk voor meer informatie over deze cursus\, de kosten en de aanmeldingsmogelijkheden op de website
URL:https://www.spe-amsterdam.nl/event/burgeracademie-cursus-fondsenwerving-van-plan-naar-aanvraag-dag-1/
ATTACH;FMTTYPE=image/png:https://www.spe-amsterdam.nl/wp-content/uploads/2021/02/burgeracademie.png
END:VEVENT
END:VCALENDAR