BEGIN:VCALENDAR
VERSION:2.0
PRODID:-//SPE-Amsterdam - ECPv6.1.3//NONSGML v1.0//EN
CALSCALE:GREGORIAN
METHOD:PUBLISH
X-WR-CALNAME:SPE-Amsterdam
X-ORIGINAL-URL:https://www.spe-amsterdam.nl
X-WR-CALDESC:Evenementen voor SPE-Amsterdam
REFRESH-INTERVAL;VALUE=DURATION:PT1H
X-Robots-Tag:noindex
X-PUBLISHED-TTL:PT1H
BEGIN:VTIMEZONE
TZID:Europe/Amsterdam
BEGIN:DAYLIGHT
TZOFFSETFROM:+0100
TZOFFSETTO:+0200
TZNAME:CEST
DTSTART:20200329T010000
END:DAYLIGHT
BEGIN:STANDARD
TZOFFSETFROM:+0200
TZOFFSETTO:+0100
TZNAME:CET
DTSTART:20201025T010000
END:STANDARD
END:VTIMEZONE
BEGIN:VEVENT
DTSTART;TZID=Europe/Amsterdam:20201210T193000
DTEND;TZID=Europe/Amsterdam:20201210T210000
DTSTAMP:20260422T095445
CREATED:20201202T163258Z
LAST-MODIFIED:20201202T163258Z
UID:17365-1607628600-1607634000@www.spe-amsterdam.nl
SUMMARY:Dolle Mina Lezing Atria & Gemeente Amsterdam
DESCRIPTION:Het is dit jaar 50 jaar geleden dat feministische actiegroep Dolle Mina begon met haar vrolijke strijd voor vrouwenrechten. Daarom organiseren gemeente Amsterdam en kennisinstituut Atria samen de eerste jaarlijkse Dolle Mina lezing. Op 10 december tussen 19.30 en 21.00 uur wordt deze uitgezonden vanuit Felix Meritis in Amsterdam. \nDe hoofdspreker is Mandu Reid\, leider van de Britse Women’s Equality Party en kandidaat voor burgemeester van Londen. Ze is de eerste vrouw van kleur in Engeland die leiding geeft aan een politieke partij\, en spreekt in de media openlijk over hoe haar ervaring met abortus haar politiek actief maakte. \nAndere sprekers tijdens de Dolle Mina lezing zijn onder meer Hedy d’Ancona (oud-politica en feministisch boegbeeld van de Dolle Mina-generatie)\, Rachel Rumai (schrijver\, dichter en spoken word artist) en Eva de Goeij en Santi van den Toorn van de feministische actiegroep De Bovengrondse. In het programma wordt ingegaan op het belang van vrouwelijk leiderschap en intersectionele samenwerking om issues als menstruatiearmoede\, toegang tot abortus en eerlijke werk-zorgverdeling aan te pakken. De Dolle Mina lezing is een initiatief van de gemeente Amsterdam en is georganiseerd in samenwerking met Atria\, kennisinstituut voor emancipatie en vrouwengeschiedenis. \nVoor meer informatie en aanmelden zie: https://atria.nl/agenda/dolle-mina-lezing-met-mandu-reid/
URL:https://www.spe-amsterdam.nl/event/dolle-mina-lezing-atria-gemeente-amsterdam/
LOCATION:Online
END:VEVENT
END:VCALENDAR