BEGIN:VCALENDAR
VERSION:2.0
PRODID:-//SPE-Amsterdam - ECPv6.1.3//NONSGML v1.0//EN
CALSCALE:GREGORIAN
METHOD:PUBLISH
X-ORIGINAL-URL:https://www.spe-amsterdam.nl
X-WR-CALDESC:Evenementen voor SPE-Amsterdam
REFRESH-INTERVAL;VALUE=DURATION:PT1H
X-Robots-Tag:noindex
X-PUBLISHED-TTL:PT1H
BEGIN:VTIMEZONE
TZID:Europe/Amsterdam
BEGIN:DAYLIGHT
TZOFFSETFROM:+0100
TZOFFSETTO:+0200
TZNAME:CEST
DTSTART:20200329T010000
END:DAYLIGHT
BEGIN:STANDARD
TZOFFSETFROM:+0200
TZOFFSETTO:+0100
TZNAME:CET
DTSTART:20201025T010000
END:STANDARD
END:VTIMEZONE
BEGIN:VEVENT
DTSTART;TZID=Europe/Amsterdam:20201125T080000
DTEND;TZID=Europe/Amsterdam:20201125T170000
DTSTAMP:20260422T081721
CREATED:20201125T150355Z
LAST-MODIFIED:20201125T161237Z
UID:17357-1606291200-1606323600@www.spe-amsterdam.nl
SUMMARY:Internationale dag tegen geweld tegen vrouwen - start Orange the World campagne
DESCRIPTION:25 november is de Internationale dag tegen geweld tegen vrouwen. De meeste voorkomende vorm van geweld in Nederland is geweld tegen vrouwen. Maar liefst 45% van de vrouwen in Nederland krijgt op een moment in haar leven met geweld te maken. Naar schatting wordt hiervan slechts 10% gemeld bij de politie. Om geweld tegen vrouwen te voorkomen en het melden ervan makkelijker te maken creëren UN Women Nederland\, Zonta Nederland en de Unie van Soroptimistclubs in Nederland\, Suriname en Curaçao de Nederlandse campagne van de Orange the World. De campagne loopt van 25 november tot 10 december. In deze periode worden verschillende acties en activiteiten georganiseerd waaronder de volgende: \n25 november: Nationale aftrap van de campagne\, te volgen van 18:30 tot 19:45 via een live stream. \n2 & 3 december: Workshops voor mannen over toxic masculinity en geweld tegen vrouwen van IT STARTS HERE\, een campagne van de UvA. Voor meer informatie zie hun website. \n7 december: Digitale demonstratie tegen geweld tegen vrouwen. Voor meer informatie zie Facebook. \n16 november – april 2021: HEAR ME NOW\, expositie en workshops rondom het thema seksueel geweld op verschillende plekken in Amsterdam. Voor meer informatie zie hun website. \n  \n 
URL:https://www.spe-amsterdam.nl/event/internationale-dag-tegen-geweld-tegen-vrouwen-start-orange-the-world-campagne/
END:VEVENT
END:VCALENDAR