BEGIN:VCALENDAR
VERSION:2.0
PRODID:-//SPE-Amsterdam - ECPv6.1.3//NONSGML v1.0//EN
CALSCALE:GREGORIAN
METHOD:PUBLISH
X-ORIGINAL-URL:https://www.spe-amsterdam.nl
X-WR-CALDESC:Evenementen voor SPE-Amsterdam
REFRESH-INTERVAL;VALUE=DURATION:PT1H
X-Robots-Tag:noindex
X-PUBLISHED-TTL:PT1H
BEGIN:VTIMEZONE
TZID:Europe/Amsterdam
BEGIN:DAYLIGHT
TZOFFSETFROM:+0100
TZOFFSETTO:+0200
TZNAME:CEST
DTSTART:20200329T010000
END:DAYLIGHT
BEGIN:STANDARD
TZOFFSETFROM:+0200
TZOFFSETTO:+0100
TZNAME:CET
DTSTART:20201025T010000
END:STANDARD
END:VTIMEZONE
BEGIN:VEVENT
DTSTART;TZID=Europe/Amsterdam:20201017T100000
DTEND;TZID=Europe/Amsterdam:20201017T160000
DTSTAMP:20260422T064530
CREATED:20200923T093859Z
LAST-MODIFIED:20200923T093859Z
UID:17243-1602928800-1602950400@www.spe-amsterdam.nl
SUMMARY:True Storytelling workshop for queer womxn of color
DESCRIPTION:True Storytelling workshop ‘Mama hoor je mij?’   \n“Mama\, hoor je mij?” is een project van Stichting Maruf voor en door queer vrouwxn van kleur in Amsterdam om ons te helpen onze stem te gebruiken in het dagelijkse leven\, door middel van verhalen vertellen en spoken word.Tijdens deze workshop gaat Soula jou helpen met nadenken over je familie-banden en connecties door verhalen te creëren over persoonlijke ervaringen. Je verlaat deze workshop met een persoonlijk verhaal dat je al met anderen kunt delen. Voor aanmelding of informatie\, stuur ons een email vóór 10 oktober: s.shams@maruf.eu \n(English version) “Mama\, hoor je mij?” is a project by Stichting Maruf for and by queer womxn of color in Amsterdam to help us use our voice in everyday life\, storytelling\, and spoken word. In this workshop\, Soula helps you reflect on your family ties and connections by crafting a story based on personal experience. You will leave the workshop with creative tools and a true story you can share with others! To sign up or for more information\, send us an email before October 10th: s.shams@maruf.eu
URL:https://www.spe-amsterdam.nl/event/true-storytelling-workshop-for-queer-womxn-of-color/
LOCATION:Mezrab\, Veemkade 576\, 1019BL Amsterdam\, Veemkade 576\, Amsterdam\, 1019BL
ATTACH;FMTTYPE=image/png:https://www.spe-amsterdam.nl/wp-content/uploads/2020/09/maruf.png
END:VEVENT
END:VCALENDAR