BEGIN:VCALENDAR
VERSION:2.0
PRODID:-//SPE-Amsterdam - ECPv6.1.3//NONSGML v1.0//EN
CALSCALE:GREGORIAN
METHOD:PUBLISH
X-WR-CALNAME:SPE-Amsterdam
X-ORIGINAL-URL:https://www.spe-amsterdam.nl
X-WR-CALDESC:Evenementen voor SPE-Amsterdam
REFRESH-INTERVAL;VALUE=DURATION:PT1H
X-Robots-Tag:noindex
X-PUBLISHED-TTL:PT1H
BEGIN:VTIMEZONE
TZID:Europe/Amsterdam
BEGIN:DAYLIGHT
TZOFFSETFROM:+0100
TZOFFSETTO:+0200
TZNAME:CEST
DTSTART:20200329T010000
END:DAYLIGHT
BEGIN:STANDARD
TZOFFSETFROM:+0200
TZOFFSETTO:+0100
TZNAME:CET
DTSTART:20201025T010000
END:STANDARD
END:VTIMEZONE
BEGIN:VEVENT
DTSTART;VALUE=DATE:20200914
DTEND;VALUE=DATE:20200915
DTSTAMP:20260422T051543
CREATED:20200810T101731Z
LAST-MODIFIED:20200810T101731Z
UID:17107-1600041600-1600127999@www.spe-amsterdam.nl
SUMMARY:Single Supermom - Durven Doen Online (alle stadsdelen)
DESCRIPTION:Durven Doen:\nWil je een positieve verandering in jouw leven? Wil je beter met moeilijke situaties leren omgaan?\nDan is Durven Doen de juiste training voor je!\nDurven Doen bestaat uit zeven bijeenkomsten waarin we werken aan jouw doelen. Je maakt plannen. Je onderzoekt wat je nodig hebt om je doelen te bereiken. Je netwerk wordt vergroot\, er ontstaan nieuwe vriendschappen en je investeert in je persoonlijke ontwikkeling. \nDe trainingen zijn laagdrempelig en erop gericht om jou in beweging te brengen en te empoweren. Door deze training komt je in balans\, doorbreek je slechte patronen\, krijgt je weer perspectief in jouw leven\, leer je prioriteiten en doelen te stellen en zet je succesvolle stappen richting zelfredzaamheid en economische zelfstandigheid. Tijdens de trainingen ga je in een veilige omgeving je sociale en praktische vaardigheden oefenen\, zoals plannen (met bijhorende agenda) en evalueren. \nBij de bijeenkomsten deel je jouw ervaringen met de andere moeders\, en bied je elkaar emotionele en praktische steun. Je krijgt professioneel advies van de trainer over hoe je met moeilijke situaties om kan gaan en hoe je je doelen kan bereiken. \nDe trainingen starten op 14 september 2020 en vinden gedurende 7 weken plaats. Zie hier het programma van de trainingen. Let op! Deze trainingen vinden online plaats. \nAanmelden:\nJe kunt je aanmelden via het online inschrijfformulier: https://singlesupermom.nl/aanmelding-durven-doen/\nOf een e-mail sturen naar info@singlesupermom.com.
URL:https://www.spe-amsterdam.nl/event/single-supermom-durven-doen-online-alle-stadsdelen/
LOCATION:Amsterdam
ATTACH;FMTTYPE=image/png:https://www.spe-amsterdam.nl/wp-content/uploads/2020/08/logo-ssm.png
END:VEVENT
BEGIN:VEVENT
DTSTART;TZID=Europe/Amsterdam:20200914T090000
DTEND;TZID=Europe/Amsterdam:20200914T120000
DTSTAMP:20260422T051543
CREATED:20200914T111051Z
LAST-MODIFIED:20200914T111051Z
UID:17209-1600074000-1600084800@www.spe-amsterdam.nl
SUMMARY:Training: 'Zet een volgende stap' - Stichting Malak
DESCRIPTION:Stichting Malak organiseert vanaf 14 september wekelijks de training ‘Zet een volgende stap’. Bij deze training kom je er in 12 weken achter wat jouw talenten en kwaliteiten zijn en hoe je deze kunt benutten. De volgende drie thema’s staan daarbij centraal: \n\npersoonlijke ontwikkeling en empowerment\nvan vrijwilligerswerk naar werk\nwerk en ondernemerschap\n\n  \nTijd en locatie \nDe training vindt plaats op maandagen vanaf 14 september van 09:30 tot 12:00. Vanaf 09:00 is er inloop met een gezond ontbijt. Ook voor kinderopvang wordt gezorgd. De locatie is stichting Al Houda: J. Drijverweg 5A.  \nInschrijven \nVoor meer informatie en om je in te schrijven kun je mailen naar info@stichtingmalak.com of bellen naar 0641742933.
URL:https://www.spe-amsterdam.nl/event/training-zet-een-volgende-stap-stichting-malak/
LOCATION:J. Drijverweg 5A.
END:VEVENT
END:VCALENDAR