BEGIN:VCALENDAR
VERSION:2.0
PRODID:-//SPE-Amsterdam - ECPv6.1.3//NONSGML v1.0//EN
CALSCALE:GREGORIAN
METHOD:PUBLISH
X-WR-CALNAME:SPE-Amsterdam
X-ORIGINAL-URL:https://www.spe-amsterdam.nl
X-WR-CALDESC:Evenementen voor SPE-Amsterdam
REFRESH-INTERVAL;VALUE=DURATION:PT1H
X-Robots-Tag:noindex
X-PUBLISHED-TTL:PT1H
BEGIN:VTIMEZONE
TZID:Europe/Amsterdam
BEGIN:DAYLIGHT
TZOFFSETFROM:+0100
TZOFFSETTO:+0200
TZNAME:CEST
DTSTART:20200329T010000
END:DAYLIGHT
BEGIN:STANDARD
TZOFFSETFROM:+0200
TZOFFSETTO:+0100
TZNAME:CET
DTSTART:20201025T010000
END:STANDARD
END:VTIMEZONE
BEGIN:VEVENT
DTSTART;TZID=Europe/Amsterdam:20200515T093000
DTEND;TZID=Europe/Amsterdam:20200515T133000
DTSTAMP:20260422T003053
CREATED:20200403T090840Z
LAST-MODIFIED:20200410T113756Z
UID:16843-1589535000-1589549400@www.spe-amsterdam.nl
SUMMARY:Beslisbijeenkomst Speerpunt 2: Zelfbewust Opgroeien
DESCRIPTION:
URL:https://www.spe-amsterdam.nl/event/beslisbijeenkomst-speerpunt-2-zelfbewust-opgroeien/
ATTACH;FMTTYPE=image/jpeg:https://www.spe-amsterdam.nl/wp-content/uploads/2020/04/Foto-zelfbewust-opgroeien-2-e1586522129522.jpg
END:VEVENT
END:VCALENDAR