BEGIN:VCALENDAR
VERSION:2.0
PRODID:-//SPE-Amsterdam - ECPv6.1.3//NONSGML v1.0//EN
CALSCALE:GREGORIAN
METHOD:PUBLISH
X-ORIGINAL-URL:https://www.spe-amsterdam.nl
X-WR-CALDESC:Evenementen voor SPE-Amsterdam
REFRESH-INTERVAL;VALUE=DURATION:PT1H
X-Robots-Tag:noindex
X-PUBLISHED-TTL:PT1H
BEGIN:VTIMEZONE
TZID:Europe/Amsterdam
BEGIN:DAYLIGHT
TZOFFSETFROM:+0100
TZOFFSETTO:+0200
TZNAME:CEST
DTSTART:20200329T010000
END:DAYLIGHT
BEGIN:STANDARD
TZOFFSETFROM:+0200
TZOFFSETTO:+0100
TZNAME:CET
DTSTART:20201025T010000
END:STANDARD
END:VTIMEZONE
BEGIN:VEVENT
DTSTART;VALUE=DATE:20200505
DTEND;VALUE=DATE:20200506
DTSTAMP:20260422T003104
CREATED:20200417T124135Z
LAST-MODIFIED:20200417T124135Z
UID:16906-1588636800-1588723199@www.spe-amsterdam.nl
SUMMARY:Wonda Women talks to Bear: an lecture on queer sex work
DESCRIPTION:Over het evenement:\n\n\n\nWONDA WOMEN talks to Bear from PIC on the intersect of sexwork and queerness \nOn May 5th we will start a new online event-series. Our first guest is Bear from the Prostitution Information Centre. As you might know\, we have already collaborated with the Prostitution Information Centre a couple of times. This time – instead of a Walking Tour through the Red Light District – we organized an online lecture with Bear. \nBear is a queer sexworker who has done several forms of sexwork over the years. Their lecture will entail information on sexwork in the Netherlands and what it means to be a queer sexworker. \nThe lecture will focus on Bear’s intersectional experience and there will be enough space and time for interactive questions. In order to secure that this online lecture is a safe space for everyone there is only a limited amount of spots. \n\n\n\nBear is a queer sexworker who has done several forms of sexwork over the years. Their lecture will entail information on sexwork in the Netherlands and what it means to be a queer sexworker. \nCheck out PIC here: http://pic-amsterdam.com/ \nTickets en locatie:\nTo buy a ticket for the event: go to our website www.wondawomen.com. \nTickets are € 5\,25. All proceeds go to PIC. Check out PIC here: http://pic-amsterdam.com/ \nOnline lecture \nAll genders are welcome. \nLanguage during the event will be English. \nIf you have any further questions\, feel free to reach out to events@wondawomen.com.
URL:https://www.spe-amsterdam.nl/event/wonda-women-talks-to-bear-an-lecture-on-queer-sex-work/
ATTACH;FMTTYPE=image/jpeg:https://www.spe-amsterdam.nl/wp-content/uploads/2020/04/ww-e1587130864176.jpg
END:VEVENT
END:VCALENDAR