BEGIN:VCALENDAR
VERSION:2.0
PRODID:-//SPE-Amsterdam - ECPv6.1.3//NONSGML v1.0//EN
CALSCALE:GREGORIAN
METHOD:PUBLISH
X-WR-CALNAME:SPE-Amsterdam
X-ORIGINAL-URL:https://www.spe-amsterdam.nl
X-WR-CALDESC:Evenementen voor SPE-Amsterdam
REFRESH-INTERVAL;VALUE=DURATION:PT1H
X-Robots-Tag:noindex
X-PUBLISHED-TTL:PT1H
BEGIN:VTIMEZONE
TZID:Europe/Amsterdam
BEGIN:DAYLIGHT
TZOFFSETFROM:+0100
TZOFFSETTO:+0200
TZNAME:CEST
DTSTART:20200329T010000
END:DAYLIGHT
BEGIN:STANDARD
TZOFFSETFROM:+0200
TZOFFSETTO:+0100
TZNAME:CET
DTSTART:20201025T010000
END:STANDARD
END:VTIMEZONE
BEGIN:VEVENT
DTSTART;TZID=Europe/Amsterdam:20200402T193000
DTEND;TZID=Europe/Amsterdam:20200402T220000
DTSTAMP:20260421T211940
CREATED:20200210T102658Z
LAST-MODIFIED:20200331T093503Z
UID:16572-1585855800-1585864800@www.spe-amsterdam.nl
SUMMARY:Stichting Papiapodia - Leven naar en na explantatie (Uitgesteld)
DESCRIPTION:Graag nodigen wij u uit voor een themabijeenkomst “Leven naar en na explantatie”\, ter versterking van vrouwen en jonge meiden.  Zoals u weet\, overweegt menig vrouw\, jong en oud met regelmaat een borstimplantatie. Dit op basis van o.a. esthetische keuzes. De laatste 5 jaar lijkt het tij te keren. Door vage\, ondoorgrondelijke\, lichamelijke klachten die sommige vrouwen hebben en die gelinkt worden aan silliconen implantaten\, staat de ingreep onder grote druk. Maatschappelijke discussies die hierover worden gevoerd\, nemen grote vormen aan\, door verschillende oorzaken. Onduidelijke vergoedingscriteria vanuit beleidskaders helpen medici\, o.a chirurgen\, niet om patiënten met silliconen gerelateerde klachten volledig bij te staan. \nVerzekeraars houden mogelijk verschillende interpretaties aan. Door kennis en ervaring van steeds explanterende chirurgen\, worden vage silliconenklachten duidelijker en lijkt het beeld over de oorzaken helder. Echter\, wetenschappelijk lopen onderzoeken nog niet parallel met de bevindingen van chirurgen uit het veld. Tijd voor een nieuw beleidsonderzoek? \nMet deze bijdrage helpt u een grote groep vrouwen om de juiste beslissing te nemen op het juiste moment omtrent hun gezondheid. \nRoute: Metro 52 richting Noorderpark\, 1e stop\, overstap bus 35 richting Molendijk\, uistappen halte Maanstraat\, dan 3 minuten lopen naar het Zonnehuis. Optie 2: Vanaf achter CS pont richting NDSM werf\, daarna 5 minuten fietsen (https://9292.nl/). Met de auto? Ring Noord en gratis parkeren in de omgeving.
URL:https://www.spe-amsterdam.nl/event/stichting-papiapodia-leven-naar-en-na-explantatie/
LOCATION:Het Zonnehuis\, Zonneplein 30\, Amsterdam
ATTACH;FMTTYPE=image/jpeg:https://www.spe-amsterdam.nl/wp-content/uploads/2019/07/papiapodialogo-e1558874852620.jpg
END:VEVENT
END:VCALENDAR