BEGIN:VCALENDAR
VERSION:2.0
PRODID:-//SPE-Amsterdam - ECPv6.1.3//NONSGML v1.0//EN
CALSCALE:GREGORIAN
METHOD:PUBLISH
X-WR-CALNAME:SPE-Amsterdam
X-ORIGINAL-URL:https://www.spe-amsterdam.nl
X-WR-CALDESC:Evenementen voor SPE-Amsterdam
REFRESH-INTERVAL;VALUE=DURATION:PT1H
X-Robots-Tag:noindex
X-PUBLISHED-TTL:PT1H
BEGIN:VTIMEZONE
TZID:Europe/Amsterdam
BEGIN:DAYLIGHT
TZOFFSETFROM:+0100
TZOFFSETTO:+0200
TZNAME:CEST
DTSTART:20200329T010000
END:DAYLIGHT
BEGIN:STANDARD
TZOFFSETFROM:+0200
TZOFFSETTO:+0100
TZNAME:CET
DTSTART:20201025T010000
END:STANDARD
END:VTIMEZONE
BEGIN:VEVENT
DTSTART;TZID=Europe/Amsterdam:20200321T190000
DTEND;TZID=Europe/Amsterdam:20200321T200000
DTSTAMP:20260421T211337
CREATED:20200310T124506Z
LAST-MODIFIED:20200310T131009Z
UID:16718-1584817200-1584820800@www.spe-amsterdam.nl
SUMMARY:Intersectional Talks: Gender and disability
DESCRIPTION:Over het evenement\nEr staat weer een Wonda Women diner op de planning! Het thema van het komende diner is de intersectie tussen gender en disability. We zijn ontzettend blij dat Damla Kaygusuz onze eregast zal zijn tijdens dit diner!\n\n\n\n\n\nDamla Kaygusuz is een journalist. Ze probeert zich in te zetten voor een maatschappij waar een beperking niet wordt gezien als iets om aan te denken\, maar automatisch wordt meegenomen. Haar passie hiervoor begon toen ze haar safe space op een dovenschool verliet en de wijde wereld in ging\, zich realiserende dat niet alles vanzelfsprekend was. \nWij willen deze avond graag ook een safe space creëren om het over dit onderwerp te hebben. Daarom willen we met name \n\n\n\nOns volgende diner komt er weer aan! Kom met ons pizza eten terwijl we praten over de intersectie tussen gender en disability. Er zal daarnaast veel ruimte zijn voor het delen van persoonlijke ervaringen. We zijn ontzettend blij dat journalist Damla Kaygusuz onze eregast zal zijn tijdens dit diner! \n  \n\n\n\nTijd en Locatie\n17 mrt. 19:00 – 21:00\nStichting Mama Cash\, Eerste Helmersstraat 17-2HG\, 1054 CX Amsterdam\, Netherlands \n\n  \n\n\n\nEntree\nKlik hier om een kaartje te kopen!
URL:https://www.spe-amsterdam.nl/event/intersectional-talks-gender-and-disability/
ATTACH;FMTTYPE=image/jpeg:https://www.spe-amsterdam.nl/wp-content/uploads/2020/03/foto-e1583843659807.jpg
END:VEVENT
END:VCALENDAR