BEGIN:VCALENDAR
VERSION:2.0
PRODID:-//SPE-Amsterdam - ECPv6.1.3//NONSGML v1.0//EN
CALSCALE:GREGORIAN
METHOD:PUBLISH
X-WR-CALNAME:SPE-Amsterdam
X-ORIGINAL-URL:https://www.spe-amsterdam.nl
X-WR-CALDESC:Evenementen voor SPE-Amsterdam
REFRESH-INTERVAL;VALUE=DURATION:PT1H
X-Robots-Tag:noindex
X-PUBLISHED-TTL:PT1H
BEGIN:VTIMEZONE
TZID:Europe/Amsterdam
BEGIN:DAYLIGHT
TZOFFSETFROM:+0100
TZOFFSETTO:+0200
TZNAME:CEST
DTSTART:20200329T010000
END:DAYLIGHT
BEGIN:STANDARD
TZOFFSETFROM:+0200
TZOFFSETTO:+0100
TZNAME:CET
DTSTART:20201025T010000
END:STANDARD
END:VTIMEZONE
BEGIN:VEVENT
DTSTART;VALUE=DATE:20200306
DTEND;VALUE=DATE:20200312
DTSTAMP:20260421T211829
CREATED:20200305T144210Z
LAST-MODIFIED:20200305T144709Z
UID:16705-1583452800-1583971199@www.spe-amsterdam.nl
SUMMARY:Internationale Vrouwendag in Amsterdam-Oost
DESCRIPTION:Elk jaar vieren we op 8 maart Internationale Vrouwendag. Dit jaar is het thema Vrijheid. In Oost organiseren verschillende initiatiefnemers activiteiten en evenementen op en rond zondag 8 maart. Hieronder een overzicht. Gaat u ook naar een of meer van deze evenementen? \n\n\nVrijdag 6 maart\n\nvan 16.00 tot 22.00 uur\nBoost\, Danie Theronstraat 2\n\nMulticultureel feest voor alle vrouwen uit Oud-Oost. Gezellig samen eten\, dansen\, genieten\, van elkaar horen en leren. Georganiseerd door buurtbewoner Nagla El Sayed\, in samenwerking met MAP\, Stichting El Fanaar en Dokters van de Wereld. \nZaterdag 7 maart\n\nvan 18.00 tot 00.30 uur\nLolaland\,Pampuslaan 501\, IJburg\n\nEen gratis avond voor alle IJburgse vrouwen met muziek\, dans\, sauna\, poëzie en mooie verhalen en uiteraard lekker eten en drinken en genieten van de volle maan op het strand. Moeders\, dochters\, oma’s\, buurvrouwen\, tantes\, nichtjes\, vriendinnen zijn allemaal welkom. \nMeer informatie op de Facebookpagina. \nZondag 8 maart\n\nvan 12.00 tot 17.30 uur\nDe Meevaart\, Balistraat 48a\, Indische Buurt\n\nVoor de vijfde keer in de Meevaart een uitgebreid programma op Internationale Vrouwendag. Deze zondagmiddag is gevuld met film\, workshops\, informatie\, beauty\, massages\, buurtkunst\, sport\, muziek en eenvoudige\, maar gezonde en lekkere hapjes! De toegang is gratis. Meer informatie vindt u op de Facebbookpagina Internationale Vrouwendag in Oost. \n\nvan 13.00 tot 17.00 uur\nDapperhart\, Dapperplein 45\n\nVrouwenruimte De Kat nodigt alle vrouwen uit Oost uit voor een gezellige middag  over vrijheid. Theatermakers Mariem Zian en Rellie Telg nemen u op een speelse en creatieve manier mee in het thema Vrijheid. Wat is vrijheid eigenlijk\, wat betekent vrijheid voor u en wat voor uw buurvrouw? Graag vooraf aanmelden. Meer informatie vindt u op de website van Vrouwenruimte. \n\nvan 14:00 tot 17:30 uur\nJaco\, Rhijnspoorplein 1A 1091 GC Amsterdam\n\nEastside GirlsPower organiseert een feestelijk event voor en door meiden vanaf 10 jaar. Met veel muziek\, female dj’s\, workshops en informatie & advies. In samenwerking met Elance\, Girls forward en Dynamo Jongerenwerk. Meer informatie vindt u op de website van Dynamo. \nWoensdag 11 maart\n\nvan 14.30 tot 18.00 uur\nBuurtcentrum Oosterpark\, 3e Oosterparkstraat 159\n\nEen uitgebreid programma met verhalen en dialoog over vrijheid en zelfbeschikking\, met aansluitend leuke workshops\, muziek\, dans en lekkere hapjes. Georganiseerd door Stichting Prachtvrouw en Dynamo Amsterdam. \nAanmelden is verplicht. Meer informatie vindt u op de Facebookpagina van Stichting Prachtvrouw
URL:https://www.spe-amsterdam.nl/event/internationale-vrouwendag-in-amsterdam-oost/
ATTACH;FMTTYPE=image/jpeg:https://www.spe-amsterdam.nl/wp-content/uploads/2020/02/womeninc-e1582815976370.jpg
END:VEVENT
BEGIN:VEVENT
DTSTART;TZID=Europe/Amsterdam:20200310T093000
DTEND;TZID=Europe/Amsterdam:20200310T120000
DTSTAMP:20260421T211829
CREATED:20200221T113633Z
LAST-MODIFIED:20200305T102408Z
UID:16590-1583832600-1583841600@www.spe-amsterdam.nl
SUMMARY:Stichting Malak - Doe mee\, werk aan je toekomst!
DESCRIPTION:Stichting Malak organiseert in samenwerking met ServicePunt Emancipatie Amsterdam de cursus DOE MEE\, WERK AAN JE TOEKOMST! \nDoel van de cursus\nDeelneemsters worden ondersteund in hun persoonlijke ontwikkeling zodat zij hun vaardigheden optimaal kunnen inzetten in de maatschappij\, richting vrijwilligerswerk\, betaald werk of ondernemerschap. \nData\nDe training start dinsdag 03 maart tot en met 28 april 2020\nInloop vanaf 9.00 uur. Elke bijeenkomst start om 9.30 en duurt tot 12.00 uur \nOnderwerp \n\n\n\n3 maart:    Wat is mijn droom\, wat zijn mijn kwaliteiten.\n10 maart:   Zelfbeeld en zelfvertrouwen. Een laag zelfbeeld omzetten in een positief zelfbeeld.\n17 maart:   Versterk je assertiviteit I. Sterker in je schoenen staan vanuit wie je bent.\n24 maart:  Versterk je assertiviteit II.\n31 maart:   Timemanagement. Gezin en werk combineren.\n7 april:       Informatie over vrijwilligerswerk.\n14 april:     Informatie over betaald werk.\n21 april:     Informatie over ondernemerschap.\n28 april:    Presenteer jezelf\, evaluatie en uitreiking certificaat.\n\n\n\nDeelname \n\nVrouwen uit Amsterdam vanaf 18 jaar die gemotiveerd zijn\, positief aan zichzelf willen werken.\nBelangrijk! Kinderopvang voor kinderen onder 4 jaar is aanwezig & reiskosten worden eventueel in overleg vergoed!\n\nAanmelden: via Stichting Malak. Email: info@stichtingmalak.com of bellen naar : 0641742933
URL:https://www.spe-amsterdam.nl/event/stichting-malak-doe-mee-werk-aan-je-toekomst/
LOCATION:Buurtkamer De Kleine Wereld\, Zilverberg 82\, Amsterdam\, 1025 CJ
ATTACH;FMTTYPE=image/jpeg:https://www.spe-amsterdam.nl/wp-content/uploads/2019/08/Malak.jpg
END:VEVENT
END:VCALENDAR