BEGIN:VCALENDAR
VERSION:2.0
PRODID:-//SPE-Amsterdam - ECPv6.1.3//NONSGML v1.0//EN
CALSCALE:GREGORIAN
METHOD:PUBLISH
X-ORIGINAL-URL:https://www.spe-amsterdam.nl
X-WR-CALDESC:Evenementen voor SPE-Amsterdam
REFRESH-INTERVAL;VALUE=DURATION:PT1H
X-Robots-Tag:noindex
X-PUBLISHED-TTL:PT1H
BEGIN:VTIMEZONE
TZID:Europe/Amsterdam
BEGIN:DAYLIGHT
TZOFFSETFROM:+0100
TZOFFSETTO:+0200
TZNAME:CEST
DTSTART:20200329T010000
END:DAYLIGHT
BEGIN:STANDARD
TZOFFSETFROM:+0200
TZOFFSETTO:+0100
TZNAME:CET
DTSTART:20201025T010000
END:STANDARD
END:VTIMEZONE
BEGIN:VEVENT
DTSTART;TZID=Europe/Amsterdam:20200228T093000
DTEND;TZID=Europe/Amsterdam:20200228T150000
DTSTAMP:20260421T200012
CREATED:20200130T103153Z
LAST-MODIFIED:20200210T163350Z
UID:16547-1582882200-1582902000@www.spe-amsterdam.nl
SUMMARY:Professionaliseringsdag SPE - 28 februari 2020
DESCRIPTION:Op 28 februari 2020 starten wij het jaar met de eerste professionaliseringsdag van 2020. Dit keer gaan we kijken naar welke samenwerkingen jullie aan kunnen gaan met eventuele partners\, zowel formeel als informeel. Hoe ga je hiermee om? Hoe zorg je ervoor dat je kan samenwerken met belanghebbende van jouw project of organisatie? Hoe kun je je impact vergroten door samen te werken met anderen? \n09:30 – 10:00 uur            Inloop met koffie en thee \n10:00 – 10:05 uur            Start van het programma + introductie door SPE \n10:05 – 12:00 uur            Inzicht in samenwerkingen workshop door Job Tupan (senior strateeg bij Diversion) \n12:00 – 13:00 uur            Vegetarische lunch \n13:00 – 15:00 uur            Public Affairs workshop door Mara van Waveren (programmacoördinator bij Stichting Lobby Lokaal) \n15:00 – 15:10 uur            Afsluiting van de dag \nWil jij hierbij aanwezig zijn en aan het eind van de dag met een duidelijk strategisch plan de deur uit gaan? Stuur dan een mailtje naar info@spe-amsterdam.nl. Deelname is gratis en je kunt alleen deelnemen aan het gehele dagprogramma.
URL:https://www.spe-amsterdam.nl/event/professionaliseringsdag-spe-28-februari-2020/
LOCATION:FreedomLab\, Plantage Middenlaan 62\, Amsterdam
ATTACH;FMTTYPE=image/jpeg:https://www.spe-amsterdam.nl/wp-content/uploads/2019/03/Logo-SPE-e1552569075317.jpg
END:VEVENT
END:VCALENDAR